BEGIN:VCALENDAR
VERSION:2.0
PRODID:-//National ICT Innovation Hub - ECPv6.15.20//NONSGML v1.0//EN
CALSCALE:GREGORIAN
METHOD:PUBLISH
X-ORIGINAL-URL:https://innovationhub.ug
X-WR-CALDESC:Events for National ICT Innovation Hub
REFRESH-INTERVAL;VALUE=DURATION:PT1H
X-Robots-Tag:noindex
X-PUBLISHED-TTL:PT1H
BEGIN:VTIMEZONE
TZID:UTC
BEGIN:STANDARD
TZOFFSETFROM:+0000
TZOFFSETTO:+0000
TZNAME:UTC
DTSTART:20250101T000000
END:STANDARD
END:VTIMEZONE
BEGIN:VEVENT
DTSTART;TZID=UTC:20260131T080000
DTEND;TZID=UTC:20260131T170000
DTSTAMP:20260421T222140
CREATED:20251124T071705Z
LAST-MODIFIED:20251124T071705Z
UID:9192-1769846400-1769878800@innovationhub.ug
SUMMARY:E-mobility Digital Literacy Training
DESCRIPTION:
URL:https://innovationhub.ug/event/e-mobility-digital-literacy-training/
LOCATION:Auditorium
CATEGORIES:Hub Space
END:VEVENT
BEGIN:VEVENT
DTSTART;TZID=UTC:20260227T070000
DTEND;TZID=UTC:20260227T090000
DTSTAMP:20260421T222140
CREATED:20251219T074806Z
LAST-MODIFIED:20251219T074806Z
UID:9287-1772175600-1772182800@innovationhub.ug
SUMMARY:ICTAU CIO Roundtable
DESCRIPTION:
URL:https://innovationhub.ug/event/ictau-cio-roundtable-3/
LOCATION:Board Room
CATEGORIES:Hub Space
END:VEVENT
BEGIN:VEVENT
DTSTART;TZID=UTC:20260320T070000
DTEND;TZID=UTC:20260320T090000
DTSTAMP:20260421T222140
CREATED:20251219T074913Z
LAST-MODIFIED:20251219T074913Z
UID:9290-1773990000-1773997200@innovationhub.ug
SUMMARY:ICTAU CIO Roundtable
DESCRIPTION:
URL:https://innovationhub.ug/event/ictau-cio-roundtable-4/
LOCATION:Board Room
CATEGORIES:Hub Space
END:VEVENT
BEGIN:VEVENT
DTSTART;TZID=UTC:20260410T120000
DTEND;TZID=UTC:20260410T140000
DTSTAMP:20260421T222140
CREATED:20260410T085755Z
LAST-MODIFIED:20260410T085755Z
UID:9867-1775822400-1775829600@innovationhub.ug
SUMMARY:Meeting With Innovators
DESCRIPTION:
URL:https://innovationhub.ug/event/meeting-with-innovators/
LOCATION:Visual Space
CATEGORIES:Hub Space
ORGANIZER;CN="National ICT Innovation Hub":MAILTO:innovationhub@ict.go.ug
END:VEVENT
BEGIN:VEVENT
DTSTART;TZID=UTC:20260423T080000
DTEND;TZID=UTC:20260423T170000
DTSTAMP:20260421T222140
CREATED:20251022T062639Z
LAST-MODIFIED:20260421T083220Z
UID:7486-1776931200-1776963600@innovationhub.ug
SUMMARY:HR meeting for Enabel
DESCRIPTION:
URL:https://innovationhub.ug/event/enabel-15/
LOCATION:Board Room
CATEGORIES:Hub Space
END:VEVENT
BEGIN:VEVENT
DTSTART;TZID=UTC:20260605T080000
DTEND;TZID=UTC:20260606T130000
DTSTAMP:20260421T222140
CREATED:20251114T083440Z
LAST-MODIFIED:20251114T083440Z
UID:9171-1780646400-1780750800@innovationhub.ug
SUMMARY:Daria Kayitesi Safe Space
DESCRIPTION:Beyond blue prints
URL:https://innovationhub.ug/event/daria-kayitesi-safe-space/
LOCATION:Visual Space
CATEGORIES:Hub Space
END:VEVENT
BEGIN:VEVENT
DTSTART;TZID=UTC:20260612T080000
DTEND;TZID=UTC:20260613T130000
DTSTAMP:20260421T222140
CREATED:20251114T083559Z
LAST-MODIFIED:20251114T083559Z
UID:9173-1781251200-1781355600@innovationhub.ug
SUMMARY:Daria Kayitesi
DESCRIPTION:Beyond Blue prints
URL:https://innovationhub.ug/event/daria-kayitesi/
LOCATION:Visual Space
CATEGORIES:Hub Space
END:VEVENT
BEGIN:VEVENT
DTSTART;TZID=UTC:20260619T080000
DTEND;TZID=UTC:20260619T170000
DTSTAMP:20260421T222140
CREATED:20250921T055000Z
LAST-MODIFIED:20250921T055000Z
UID:7368-1781856000-1781888400@innovationhub.ug
SUMMARY:Edutech Meetup
DESCRIPTION:Exhibition
URL:https://innovationhub.ug/event/edutech-meetup-10/
LOCATION:Auditorium
CATEGORIES:Hub Space
END:VEVENT
END:VCALENDAR