BEGIN:VCALENDAR
VERSION:2.0
PRODID:-//National ICT Innovation Hub - ECPv6.15.20//NONSGML v1.0//EN
CALSCALE:GREGORIAN
METHOD:PUBLISH
X-ORIGINAL-URL:https://innovationhub.ug
X-WR-CALDESC:Events for National ICT Innovation Hub
REFRESH-INTERVAL;VALUE=DURATION:PT1H
X-Robots-Tag:noindex
X-PUBLISHED-TTL:PT1H
BEGIN:VTIMEZONE
TZID:UTC
BEGIN:STANDARD
TZOFFSETFROM:+0000
TZOFFSETTO:+0000
TZNAME:UTC
DTSTART:20250101T000000
END:STANDARD
END:VTIMEZONE
BEGIN:VEVENT
DTSTART;TZID=UTC:20260124T100000
DTEND;TZID=UTC:20260124T120000
DTSTAMP:20260421T180828
CREATED:20260106T132125Z
LAST-MODIFIED:20260123T090837Z
UID:9300-1769248800-1769256000@innovationhub.ug
SUMMARY:Board meeting for Impala Health tech Research
DESCRIPTION:
URL:https://innovationhub.ug/event/impala-health-tech-research/
LOCATION:Board Room
CATEGORIES:Hub Space
END:VEVENT
END:VCALENDAR