BEGIN:VCALENDAR
VERSION:2.0
PRODID:-//National ICT Innovation Hub - ECPv6.15.20//NONSGML v1.0//EN
CALSCALE:GREGORIAN
METHOD:PUBLISH
X-WR-CALNAME:National ICT Innovation Hub
X-ORIGINAL-URL:https://innovationhub.ug
X-WR-CALDESC:Events for National ICT Innovation Hub
REFRESH-INTERVAL;VALUE=DURATION:PT1H
X-Robots-Tag:noindex
X-PUBLISHED-TTL:PT1H
BEGIN:VTIMEZONE
TZID:UTC
BEGIN:STANDARD
TZOFFSETFROM:+0000
TZOFFSETTO:+0000
TZNAME:UTC
DTSTART:20240101T000000
END:STANDARD
END:VTIMEZONE
BEGIN:VEVENT
DTSTART;TZID=UTC:20251201T080000
DTEND;TZID=UTC:20251204T130000
DTSTAMP:20260423T095641
CREATED:20251030T055653Z
LAST-MODIFIED:20251030T055653Z
UID:9096-1764576000-1764853200@innovationhub.ug
SUMMARY:3D Animation Boot camp
DESCRIPTION:
URL:https://innovationhub.ug/event/3d-animation-boot-camp/
LOCATION:Auditorium
CATEGORIES:Hub Space
ORGANIZER;CN="National ICT Innovation Hub":MAILTO:innovationhub@ict.go.ug
END:VEVENT
BEGIN:VEVENT
DTSTART;TZID=UTC:20251203T100000
DTEND;TZID=UTC:20251203T130000
DTSTAMP:20260423T095641
CREATED:20251201T150736Z
LAST-MODIFIED:20251201T150736Z
UID:9207-1764756000-1764766800@innovationhub.ug
SUMMARY:UCC Board Meeting
DESCRIPTION:
URL:https://innovationhub.ug/event/ucc-board-meeting/
LOCATION:Board Room
CATEGORIES:Hub Space
END:VEVENT
END:VCALENDAR