BEGIN:VCALENDAR
VERSION:2.0
PRODID:-//National ICT Innovation Hub - ECPv6.15.20//NONSGML v1.0//EN
CALSCALE:GREGORIAN
METHOD:PUBLISH
X-ORIGINAL-URL:https://innovationhub.ug
X-WR-CALDESC:Events for National ICT Innovation Hub
REFRESH-INTERVAL;VALUE=DURATION:PT1H
X-Robots-Tag:noindex
X-PUBLISHED-TTL:PT1H
BEGIN:VTIMEZONE
TZID:UTC
BEGIN:STANDARD
TZOFFSETFROM:+0000
TZOFFSETTO:+0000
TZNAME:UTC
DTSTART:20240101T000000
END:STANDARD
END:VTIMEZONE
BEGIN:VEVENT
DTSTART;TZID=UTC:20251110T080000
DTEND;TZID=UTC:20251111T170000
DTSTAMP:20260422T002757
CREATED:20250918T151049Z
LAST-MODIFIED:20250918T151049Z
UID:7358-1762761600-1762880400@innovationhub.ug
SUMMARY:Droidcon Uganda 2025
DESCRIPTION:
URL:https://innovationhub.ug/event/droidcon-uganda-2025/
LOCATION:Auditorium
CATEGORIES:Hub Space
END:VEVENT
BEGIN:VEVENT
DTSTART;TZID=UTC:20251110T080000
DTEND;TZID=UTC:20251114T170000
DTSTAMP:20260422T002757
CREATED:20251031T101647Z
LAST-MODIFIED:20251031T101647Z
UID:9101-1762761600-1763139600@innovationhub.ug
SUMMARY:Hindsight Ventures
DESCRIPTION:
URL:https://innovationhub.ug/event/hindsight-ventures-22/
LOCATION:Visual Space
CATEGORIES:Hub Space
END:VEVENT
BEGIN:VEVENT
DTSTART;TZID=UTC:20251111T080000
DTEND;TZID=UTC:20251112T170000
DTSTAMP:20260422T002757
CREATED:20251104T110656Z
LAST-MODIFIED:20251104T110656Z
UID:9120-1762848000-1762966800@innovationhub.ug
SUMMARY:UICT Interviews
DESCRIPTION:
URL:https://innovationhub.ug/event/uict-interviews/
LOCATION:Smart Ideas
CATEGORIES:Hub Space
END:VEVENT
END:VCALENDAR