BEGIN:VCALENDAR
VERSION:2.0
PRODID:-//National ICT Innovation Hub - ECPv6.15.20//NONSGML v1.0//EN
CALSCALE:GREGORIAN
METHOD:PUBLISH
X-ORIGINAL-URL:https://innovationhub.ug
X-WR-CALDESC:Events for National ICT Innovation Hub
REFRESH-INTERVAL;VALUE=DURATION:PT1H
X-Robots-Tag:noindex
X-PUBLISHED-TTL:PT1H
BEGIN:VTIMEZONE
TZID:UTC
BEGIN:STANDARD
TZOFFSETFROM:+0000
TZOFFSETTO:+0000
TZNAME:UTC
DTSTART:20240101T000000
END:STANDARD
END:VTIMEZONE
BEGIN:VEVENT
DTSTART;TZID=UTC:20251010T080000
DTEND;TZID=UTC:20251010T170000
DTSTAMP:20260422T022218
CREATED:20250717T150700Z
LAST-MODIFIED:20250717T150700Z
UID:7063-1760083200-1760115600@innovationhub.ug
SUMMARY:Code Queen Hackathon
DESCRIPTION:
URL:https://innovationhub.ug/event/code-queen-hackathon/
LOCATION:Auditorium
CATEGORIES:Hub Space
ORGANIZER;CN="National ICT Innovation Hub":MAILTO:innovationhub@ict.go.ug
END:VEVENT
BEGIN:VEVENT
DTSTART;TZID=UTC:20251010T080000
DTEND;TZID=UTC:20251010T170000
DTSTAMP:20260422T022218
CREATED:20250731T133826Z
LAST-MODIFIED:20250731T133826Z
UID:7096-1760083200-1760115600@innovationhub.ug
SUMMARY:Google developers' club
DESCRIPTION:Tech UG Summit
URL:https://innovationhub.ug/event/google-developers-club-5/
LOCATION:Board Room
CATEGORIES:Hub Space
END:VEVENT
BEGIN:VEVENT
DTSTART;TZID=UTC:20251010T140000
DTEND;TZID=UTC:20251010T170000
DTSTAMP:20260422T022218
CREATED:20250921T054808Z
LAST-MODIFIED:20251003T115117Z
UID:7366-1760104800-1760115600@innovationhub.ug
SUMMARY:Edutech Meetup
DESCRIPTION:Email Marketing
URL:https://innovationhub.ug/event/edutech-meetup-9/
LOCATION:Smart Ideas
CATEGORIES:Hub Space
END:VEVENT
BEGIN:VEVENT
DTSTART;TZID=UTC:20251010T150000
DTEND;TZID=UTC:20251010T170000
DTSTAMP:20260422T022218
CREATED:20250901T151037Z
LAST-MODIFIED:20250901T151037Z
UID:7218-1760108400-1760115600@innovationhub.ug
SUMMARY:Hindsight Ventures
DESCRIPTION:Executive connect
URL:https://innovationhub.ug/event/hindsight-ventures-7/
LOCATION:Visual Space
CATEGORIES:Hub Space
ORGANIZER;CN="National ICT Innovation Hub":MAILTO:innovationhub@ict.go.ug
END:VEVENT
END:VCALENDAR