BEGIN:VCALENDAR
VERSION:2.0
PRODID:-//National ICT Innovation Hub - ECPv6.15.20//NONSGML v1.0//EN
CALSCALE:GREGORIAN
METHOD:PUBLISH
X-ORIGINAL-URL:https://innovationhub.ug
X-WR-CALDESC:Events for National ICT Innovation Hub
REFRESH-INTERVAL;VALUE=DURATION:PT1H
X-Robots-Tag:noindex
X-PUBLISHED-TTL:PT1H
BEGIN:VTIMEZONE
TZID:UTC
BEGIN:STANDARD
TZOFFSETFROM:+0000
TZOFFSETTO:+0000
TZNAME:UTC
DTSTART:20240101T000000
END:STANDARD
END:VTIMEZONE
BEGIN:VEVENT
DTSTART;TZID=UTC:20250818T080000
DTEND;TZID=UTC:20250828T170000
DTSTAMP:20260422T080904
CREATED:20250801T114217Z
LAST-MODIFIED:20250801T114217Z
UID:7108-1755504000-1756400400@innovationhub.ug
SUMMARY:Accreditation of conference delegates by NRM secretariat
DESCRIPTION:
URL:https://innovationhub.ug/event/accreditation-of-conference-delegates-by-nrm-secretariat/
LOCATION:Auditorium
CATEGORIES:Hub Space
ORGANIZER;CN="Ministry of ICT & National Guidance":MAILTO:ictinfo@ict.go.ug
END:VEVENT
BEGIN:VEVENT
DTSTART;TZID=UTC:20250818T080000
DTEND;TZID=UTC:20250829T170000
DTSTAMP:20260422T080904
CREATED:20250817T081246Z
LAST-MODIFIED:20250817T081246Z
UID:7189-1755504000-1756486800@innovationhub.ug
SUMMARY:Architectural mentorship
DESCRIPTION:
URL:https://innovationhub.ug/event/architectural-mentorship/
LOCATION:Visual Space
CATEGORIES:Hub Space
END:VEVENT
BEGIN:VEVENT
DTSTART;TZID=UTC:20250825T080000
DTEND;TZID=UTC:20250826T170000
DTSTAMP:20260422T080904
CREATED:20250804T090118Z
LAST-MODIFIED:20250804T090118Z
UID:7125-1756108800-1756227600@innovationhub.ug
SUMMARY:Deep Shift A.I
DESCRIPTION:Free A.i Skilling session for Primary and secondary school teachers
URL:https://innovationhub.ug/event/deep-shift-a-i-6/
LOCATION:Smart Ideas
CATEGORIES:Hub Space
ORGANIZER;CN="Ministry of ICT & National Guidance":MAILTO:ictinfo@ict.go.ug
END:VEVENT
END:VCALENDAR