BEGIN:VCALENDAR
VERSION:2.0
PRODID:-//National ICT Innovation Hub - ECPv6.15.20//NONSGML v1.0//EN
CALSCALE:GREGORIAN
METHOD:PUBLISH
X-WR-CALNAME:National ICT Innovation Hub
X-ORIGINAL-URL:https://innovationhub.ug
X-WR-CALDESC:Events for National ICT Innovation Hub
REFRESH-INTERVAL;VALUE=DURATION:PT1H
X-Robots-Tag:noindex
X-PUBLISHED-TTL:PT1H
BEGIN:VTIMEZONE
TZID:UTC
BEGIN:STANDARD
TZOFFSETFROM:+0000
TZOFFSETTO:+0000
TZNAME:UTC
DTSTART:20240101T000000
END:STANDARD
END:VTIMEZONE
BEGIN:VEVENT
DTSTART;TZID=UTC:20250811T080000
DTEND;TZID=UTC:20250815T130000
DTSTAMP:20260424T091055
CREATED:20250520T123345Z
LAST-MODIFIED:20250520T123345Z
UID:6801-1754899200-1755262800@innovationhub.ug
SUMMARY:Architeture Mentorship Session.
DESCRIPTION:
URL:https://innovationhub.ug/event/architeture-mentorship-session/
LOCATION:Visual Space
CATEGORIES:Hub Space
ORGANIZER;CN="National ICT Innovation Hub":MAILTO:innovationhub@ict.go.ug
END:VEVENT
BEGIN:VEVENT
DTSTART;TZID=UTC:20250815T080000
DTEND;TZID=UTC:20250815T090000
DTSTAMP:20260424T091055
CREATED:20250804T074059Z
LAST-MODIFIED:20250804T074059Z
UID:7117-1755244800-1755248400@innovationhub.ug
SUMMARY:ICTAU
DESCRIPTION:CIO Round table
URL:https://innovationhub.ug/event/ictau/
LOCATION:Board Room
CATEGORIES:Hub Space
END:VEVENT
BEGIN:VEVENT
DTSTART;TZID=UTC:20250815T140000
DTEND;TZID=UTC:20250815T170000
DTSTAMP:20260424T091055
CREATED:20250723T140312Z
LAST-MODIFIED:20250728T064212Z
UID:7075-1755266400-1755277200@innovationhub.ug
SUMMARY:JICA Orientation
DESCRIPTION:
URL:https://innovationhub.ug/event/jica-orientation/
LOCATION:Board Room
CATEGORIES:Hub Space
ORGANIZER;CN="Ministry of ICT & National Guidance":MAILTO:ictinfo@ict.go.ug
END:VEVENT
END:VCALENDAR