BEGIN:VCALENDAR
VERSION:2.0
PRODID:-//National ICT Innovation Hub - ECPv6.15.20//NONSGML v1.0//EN
CALSCALE:GREGORIAN
METHOD:PUBLISH
X-WR-CALNAME:National ICT Innovation Hub
X-ORIGINAL-URL:https://innovationhub.ug
X-WR-CALDESC:Events for National ICT Innovation Hub
REFRESH-INTERVAL;VALUE=DURATION:PT1H
X-Robots-Tag:noindex
X-PUBLISHED-TTL:PT1H
BEGIN:VTIMEZONE
TZID:UTC
BEGIN:STANDARD
TZOFFSETFROM:+0000
TZOFFSETTO:+0000
TZNAME:UTC
DTSTART:20250101T000000
END:STANDARD
END:VTIMEZONE
BEGIN:VEVENT
DTSTART;TZID=UTC:20260420T080000
DTEND;TZID=UTC:20260424T170000
DTSTAMP:20260423T095234
CREATED:20260330T100052Z
LAST-MODIFIED:20260331T144532Z
UID:9846-1776672000-1777050000@innovationhub.ug
SUMMARY:visually impaired training on cybersecurity
DESCRIPTION:
URL:https://innovationhub.ug/event/visually-impaired-training-on-cybersecurity/
LOCATION:Smart Ideas
ORGANIZER;CN="National ICT Innovation Hub":MAILTO:innovationhub@ict.go.ug
END:VEVENT
BEGIN:VEVENT
DTSTART;TZID=UTC:20260423T080000
DTEND;TZID=UTC:20260423T170000
DTSTAMP:20260423T095234
CREATED:20251022T062639Z
LAST-MODIFIED:20260421T083220Z
UID:7486-1776931200-1776963600@innovationhub.ug
SUMMARY:HR meeting for Enabel
DESCRIPTION:
URL:https://innovationhub.ug/event/enabel-15/
LOCATION:Board Room
CATEGORIES:Hub Space
END:VEVENT
BEGIN:VEVENT
DTSTART;TZID=UTC:20260423T080000
DTEND;TZID=UTC:20260424T170000
DTSTAMP:20260423T095234
CREATED:20260227T091550Z
LAST-MODIFIED:20260302T140702Z
UID:9665-1776931200-1777050000@innovationhub.ug
SUMMARY:CIO-CXO Digital Leadership Forum
DESCRIPTION:
URL:https://innovationhub.ug/event/cio-cxo-digital-leadership-forum-2/
LOCATION:Board Room
END:VEVENT
BEGIN:VEVENT
DTSTART;TZID=UTC:20260423T080000
DTEND;TZID=UTC:20260424T170000
DTSTAMP:20260423T095234
CREATED:20260302T142304Z
LAST-MODIFIED:20260302T142304Z
UID:9689-1776931200-1777050000@innovationhub.ug
SUMMARY:CIO-CXO Digital Leadership Forum
DESCRIPTION:
URL:https://innovationhub.ug/event/cio-cxo-digital-leadership-forum-3/
LOCATION:Auditorium
END:VEVENT
BEGIN:VEVENT
DTSTART;TZID=UTC:20260423T080000
DTEND;TZID=UTC:20260424T170000
DTSTAMP:20260423T095234
CREATED:20260302T150234Z
LAST-MODIFIED:20260302T150410Z
UID:9692-1776931200-1777050000@innovationhub.ug
SUMMARY:CIO-CXO Digital Leadership Forumn -
DESCRIPTION:
URL:https://innovationhub.ug/event/cio-cxo-digital-leadership-forumn/
LOCATION:Outdoor exhibition space
END:VEVENT
END:VCALENDAR