BEGIN:VCALENDAR
VERSION:2.0
PRODID:-//National ICT Innovation Hub - ECPv6.15.20//NONSGML v1.0//EN
CALSCALE:GREGORIAN
METHOD:PUBLISH
X-WR-CALNAME:National ICT Innovation Hub
X-ORIGINAL-URL:https://innovationhub.ug
X-WR-CALDESC:Events for National ICT Innovation Hub
REFRESH-INTERVAL;VALUE=DURATION:PT1H
X-Robots-Tag:noindex
X-PUBLISHED-TTL:PT1H
BEGIN:VTIMEZONE
TZID:UTC
BEGIN:STANDARD
TZOFFSETFROM:+0000
TZOFFSETTO:+0000
TZNAME:UTC
DTSTART:20250101T000000
END:STANDARD
END:VTIMEZONE
BEGIN:VEVENT
DTSTART;TZID=UTC:20260420T080000
DTEND;TZID=UTC:20260420T170000
DTSTAMP:20260420T143426
CREATED:20260330T091311Z
LAST-MODIFIED:20260330T091311Z
UID:9839-1776672000-1776704400@innovationhub.ug
SUMMARY:launch of Stanbic National Schools Championship Season 11.
DESCRIPTION:
URL:https://innovationhub.ug/event/launch-of-stanbic-national-schools-championship-season-11/
LOCATION:Auditorium
END:VEVENT
BEGIN:VEVENT
DTSTART;TZID=UTC:20260420T080000
DTEND;TZID=UTC:20260424T170000
DTSTAMP:20260420T143426
CREATED:20260330T100052Z
LAST-MODIFIED:20260331T144532Z
UID:9846-1776672000-1777050000@innovationhub.ug
SUMMARY:visually impaired training on cybersecurity
DESCRIPTION:
URL:https://innovationhub.ug/event/visually-impaired-training-on-cybersecurity/
LOCATION:Smart Ideas
ORGANIZER;CN="National ICT Innovation Hub":MAILTO:innovationhub@ict.go.ug
END:VEVENT
END:VCALENDAR