BEGIN:VCALENDAR
VERSION:2.0
PRODID:-//National ICT Innovation Hub - ECPv6.15.20//NONSGML v1.0//EN
CALSCALE:GREGORIAN
METHOD:PUBLISH
X-ORIGINAL-URL:https://innovationhub.ug
X-WR-CALDESC:Events for National ICT Innovation Hub
REFRESH-INTERVAL;VALUE=DURATION:PT1H
X-Robots-Tag:noindex
X-PUBLISHED-TTL:PT1H
BEGIN:VTIMEZONE
TZID:UTC
BEGIN:STANDARD
TZOFFSETFROM:+0000
TZOFFSETTO:+0000
TZNAME:UTC
DTSTART:20240101T000000
END:STANDARD
END:VTIMEZONE
BEGIN:VEVENT
DTSTART;TZID=UTC:20250927T090000
DTEND;TZID=UTC:20250927T123000
DTSTAMP:20260421T091134
CREATED:20250908T093133Z
LAST-MODIFIED:20250908T093133Z
UID:7262-1758963600-1758976200@innovationhub.ug
SUMMARY:UJ Connect Accelerator Program
DESCRIPTION:
URL:https://innovationhub.ug/event/uj-connect-accelerator-program-4/
LOCATION:Smart Ideas
CATEGORIES:Hub Space
ORGANIZER;CN="National ICT Innovation Hub":MAILTO:innovationhub@ict.go.ug
END:VEVENT
BEGIN:VEVENT
DTSTART;TZID=UTC:20250927T090000
DTEND;TZID=UTC:20250927T150000
DTSTAMP:20260421T091134
CREATED:20250519T063904Z
LAST-MODIFIED:20250519T063904Z
UID:6791-1758963600-1758985200@innovationhub.ug
SUMMARY:African Network for Women in Science\, Technology\, Engineering and Mathematics
DESCRIPTION:
URL:https://innovationhub.ug/event/african-network-for-women-in-science-technology-engineering-and-mathematics-3/
LOCATION:Board Room
CATEGORIES:Hub Space
ORGANIZER;CN="National ICT Innovation Hub":MAILTO:innovationhub@ict.go.ug
END:VEVENT
END:VCALENDAR