BEGIN:VCALENDAR
VERSION:2.0
PRODID:-//National ICT Innovation Hub - ECPv6.15.20//NONSGML v1.0//EN
CALSCALE:GREGORIAN
METHOD:PUBLISH
X-WR-CALNAME:National ICT Innovation Hub
X-ORIGINAL-URL:https://innovationhub.ug
X-WR-CALDESC:Events for National ICT Innovation Hub
REFRESH-INTERVAL;VALUE=DURATION:PT1H
X-Robots-Tag:noindex
X-PUBLISHED-TTL:PT1H
BEGIN:VTIMEZONE
TZID:UTC
BEGIN:STANDARD
TZOFFSETFROM:+0000
TZOFFSETTO:+0000
TZNAME:UTC
DTSTART:20240101T000000
END:STANDARD
END:VTIMEZONE
BEGIN:VEVENT
DTSTART;TZID=UTC:20250630T080000
DTEND;TZID=UTC:20250704T170000
DTSTAMP:20260424T110310
CREATED:20250617T111719Z
LAST-MODIFIED:20250617T111719Z
UID:6947-1751270400-1751648400@innovationhub.ug
SUMMARY:Enabel Staff Training
DESCRIPTION:
URL:https://innovationhub.ug/event/enabel-staff-training-2/
LOCATION:Board Room
CATEGORIES:Hub Space
END:VEVENT
BEGIN:VEVENT
DTSTART;TZID=UTC:20250630T160000
DTEND;TZID=UTC:20250630T180000
DTSTAMP:20260424T110310
CREATED:20250611T143439Z
LAST-MODIFIED:20250611T143439Z
UID:6898-1751299200-1751306400@innovationhub.ug
SUMMARY:Deep Shift A.I
DESCRIPTION:Community AI learning initiative.
URL:https://innovationhub.ug/event/deep-shift-a-i-4/
LOCATION:The Pod
CATEGORIES:Studio Space
ORGANIZER;CN="National ICT Innovation Hub":MAILTO:innovationhub@ict.go.ug
END:VEVENT
END:VCALENDAR