BEGIN:VCALENDAR
VERSION:2.0
PRODID:-//National ICT Innovation Hub - ECPv6.15.20//NONSGML v1.0//EN
CALSCALE:GREGORIAN
METHOD:PUBLISH
X-WR-CALNAME:National ICT Innovation Hub
X-ORIGINAL-URL:https://innovationhub.ug
X-WR-CALDESC:Events for National ICT Innovation Hub
REFRESH-INTERVAL;VALUE=DURATION:PT1H
X-Robots-Tag:noindex
X-PUBLISHED-TTL:PT1H
BEGIN:VTIMEZONE
TZID:UTC
BEGIN:STANDARD
TZOFFSETFROM:+0000
TZOFFSETTO:+0000
TZNAME:UTC
DTSTART:20240101T000000
END:STANDARD
END:VTIMEZONE
BEGIN:VEVENT
DTSTART;TZID=UTC:20250422T080000
DTEND;TZID=UTC:20250510T170000
DTSTAMP:20260420T143106
CREATED:20250211T060740Z
LAST-MODIFIED:20250211T060740Z
UID:4778-1745308800-1746896400@innovationhub.ug
SUMMARY:Uganda Institute of Information Comm. Technology
DESCRIPTION:Training for visually impaired people
URL:https://innovationhub.ug/event/uganda-institute-of-information-comm-technology/
LOCATION:Smart Ideas
CATEGORIES:Hub Space
END:VEVENT
BEGIN:VEVENT
DTSTART;TZID=UTC:20250503T080000
DTEND;TZID=UTC:20250503T170000
DTSTAMP:20260420T143106
CREATED:20250212T100621Z
LAST-MODIFIED:20250212T100621Z
UID:4819-1746259200-1746291600@innovationhub.ug
SUMMARY:Girls for Girls
DESCRIPTION:
URL:https://innovationhub.ug/event/girls-for-girls-3/
LOCATION:Visual Space
CATEGORIES:Hub Space
ORGANIZER;CN="National ICT Innovation Hub":MAILTO:innovationhub@ict.go.ug
END:VEVENT
BEGIN:VEVENT
DTSTART;TZID=UTC:20250503T080000
DTEND;TZID=UTC:20250503T170000
DTSTAMP:20260420T143106
CREATED:20250331T074238Z
LAST-MODIFIED:20250331T074238Z
UID:6513-1746259200-1746291600@innovationhub.ug
SUMMARY:Amariateck Mentorship sessions
DESCRIPTION:Vision Boards with the purpose to empower young people to grow both personally and financially.
URL:https://innovationhub.ug/event/amariateck-mentorship-sessions/
LOCATION:Board Room
CATEGORIES:Hub Space
ORGANIZER;CN="National ICT Innovation Hub":MAILTO:innovationhub@ict.go.ug
END:VEVENT
BEGIN:VEVENT
DTSTART;TZID=UTC:20250503T140000
DTEND;TZID=UTC:20250503T170000
DTSTAMP:20260420T143106
CREATED:20250331T101103Z
LAST-MODIFIED:20250331T101103Z
UID:6535-1746280800-1746291600@innovationhub.ug
SUMMARY:Edutech Meet up
DESCRIPTION:Edutech club Website Projects sessions\, to mentor participants for the scheduled website projects competition and also further support ladies who participated in the Women in ICT Bootcamp
URL:https://innovationhub.ug/event/edutech-meet-up-6/
LOCATION:Smart Ideas
CATEGORIES:Hub Space
END:VEVENT
BEGIN:VEVENT
DTSTART;TZID=UTC:20250503T140000
DTEND;TZID=UTC:20250503T170000
DTSTAMP:20260420T143106
CREATED:20250429T091140Z
LAST-MODIFIED:20250429T091140Z
UID:6680-1746280800-1746291600@innovationhub.ug
SUMMARY:Xylophone Technologies
DESCRIPTION:ongoing engagement under the innovation support program involving key stakeholders discussing the progress and plans of  Mibut Card System project.
URL:https://innovationhub.ug/event/xylophone-technologies-2/
LOCATION:Auditorium
CATEGORIES:Hub Space
ORGANIZER;CN="National ICT Innovation Hub":MAILTO:innovationhub@ict.go.ug
END:VEVENT
END:VCALENDAR