BEGIN:VCALENDAR
VERSION:2.0
PRODID:-//National ICT Innovation Hub - ECPv6.15.20//NONSGML v1.0//EN
CALSCALE:GREGORIAN
METHOD:PUBLISH
X-WR-CALNAME:National ICT Innovation Hub
X-ORIGINAL-URL:https://innovationhub.ug
X-WR-CALDESC:Events for National ICT Innovation Hub
REFRESH-INTERVAL;VALUE=DURATION:PT1H
X-Robots-Tag:noindex
X-PUBLISHED-TTL:PT1H
BEGIN:VTIMEZONE
TZID:UTC
BEGIN:STANDARD
TZOFFSETFROM:+0000
TZOFFSETTO:+0000
TZNAME:UTC
DTSTART:20230101T000000
END:STANDARD
END:VTIMEZONE
BEGIN:VEVENT
DTSTART;TZID=UTC:20241023T080000
DTEND;TZID=UTC:20241025T170000
DTSTAMP:20260423T102009
CREATED:20241016T073340Z
LAST-MODIFIED:20241016T074108Z
UID:3201-1729670400-1729875600@innovationhub.ug
SUMMARY:UICT
DESCRIPTION:Exams
URL:https://innovationhub.ug/event/uict-5/
LOCATION:Smart Ideas
CATEGORIES:Hub Space
END:VEVENT
BEGIN:VEVENT
DTSTART;TZID=UTC:20241023T080000
DTEND;TZID=UTC:20241025T170000
DTSTAMP:20260423T102009
CREATED:20241016T075148Z
LAST-MODIFIED:20241016T075148Z
UID:3203-1729670400-1729875600@innovationhub.ug
SUMMARY:UICT
DESCRIPTION:Exams
URL:https://innovationhub.ug/event/uict-6/
LOCATION:Auditorium
CATEGORIES:Hub Space
END:VEVENT
BEGIN:VEVENT
DTSTART;TZID=UTC:20241024T080000
DTEND;TZID=UTC:20241025T170000
DTSTAMP:20260423T102009
CREATED:20241017T062917Z
LAST-MODIFIED:20241017T062917Z
UID:3205-1729756800-1729875600@innovationhub.ug
SUMMARY:Ministry of ICT and NG
DESCRIPTION:E-waste policy implementation
URL:https://innovationhub.ug/event/ministry-of-ict-and-ng-14/
LOCATION:Board Room
CATEGORIES:Hub Space
ORGANIZER;CN="Ministry of ICT & National Guidance":MAILTO:ictinfo@ict.go.ug
END:VEVENT
BEGIN:VEVENT
DTSTART;TZID=UTC:20241025T080000
DTEND;TZID=UTC:20241025T170000
DTSTAMP:20260423T102009
CREATED:20241019T074147Z
LAST-MODIFIED:20241019T074147Z
UID:3231-1729843200-1729875600@innovationhub.ug
SUMMARY:EMIS Meeting
DESCRIPTION:Project implementation meeting
URL:https://innovationhub.ug/event/emis-meeting/
LOCATION:Visual Space
CATEGORIES:Hub Space
ORGANIZER;CN="Ministry of ICT & National Guidance":MAILTO:ictinfo@ict.go.ug
END:VEVENT
END:VCALENDAR