BEGIN:VCALENDAR
VERSION:2.0
PRODID:-//National ICT Innovation Hub - ECPv6.15.20//NONSGML v1.0//EN
CALSCALE:GREGORIAN
METHOD:PUBLISH
X-WR-CALNAME:National ICT Innovation Hub
X-ORIGINAL-URL:https://innovationhub.ug
X-WR-CALDESC:Events for National ICT Innovation Hub
REFRESH-INTERVAL;VALUE=DURATION:PT1H
X-Robots-Tag:noindex
X-PUBLISHED-TTL:PT1H
BEGIN:VTIMEZONE
TZID:UTC
BEGIN:STANDARD
TZOFFSETFROM:+0000
TZOFFSETTO:+0000
TZNAME:UTC
DTSTART:20230101T000000
END:STANDARD
END:VTIMEZONE
BEGIN:VEVENT
DTSTART;TZID=UTC:20241010T080000
DTEND;TZID=UTC:20241010T170000
DTSTAMP:20260421T182024
CREATED:20241010T052814Z
LAST-MODIFIED:20241010T052814Z
UID:3170-1728547200-1728579600@innovationhub.ug
SUMMARY:Ministry of ICT and NG
DESCRIPTION:Validation of budget framework paper
URL:https://innovationhub.ug/event/ministry-of-ict-and-ng-13/
LOCATION:Board Room
CATEGORIES:Hub Space
ORGANIZER;CN="Ministry of ICT & National Guidance":MAILTO:ictinfo@ict.go.ug
END:VEVENT
END:VCALENDAR