BEGIN:VCALENDAR
VERSION:2.0
PRODID:-//National ICT Innovation Hub - ECPv6.15.20//NONSGML v1.0//EN
CALSCALE:GREGORIAN
METHOD:PUBLISH
X-ORIGINAL-URL:https://innovationhub.ug
X-WR-CALDESC:Events for National ICT Innovation Hub
REFRESH-INTERVAL;VALUE=DURATION:PT1H
X-Robots-Tag:noindex
X-PUBLISHED-TTL:PT1H
BEGIN:VTIMEZONE
TZID:UTC
BEGIN:STANDARD
TZOFFSETFROM:+0000
TZOFFSETTO:+0000
TZNAME:UTC
DTSTART:20230101T000000
END:STANDARD
END:VTIMEZONE
BEGIN:VEVENT
DTSTART;TZID=UTC:20240912T080000
DTEND;TZID=UTC:20240912T170000
DTSTAMP:20260421T162829
CREATED:20240909T133638Z
LAST-MODIFIED:20240909T133638Z
UID:3092-1726128000-1726160400@innovationhub.ug
SUMMARY:NASA Space Apps Hackathon
DESCRIPTION:Information session.
URL:https://innovationhub.ug/event/nasa-space-apps-hackathon/
LOCATION:Auditorium
CATEGORIES:Hub Space
END:VEVENT
BEGIN:VEVENT
DTSTART;TZID=UTC:20240912T110000
DTEND;TZID=UTC:20240912T130000
DTSTAMP:20260421T162829
CREATED:20240909T083416Z
LAST-MODIFIED:20240909T083416Z
UID:3088-1726138800-1726146000@innovationhub.ug
SUMMARY:4th Joint Coordinate Committee meeting
DESCRIPTION:
URL:https://innovationhub.ug/event/4th-joint-coordinate-committee-meeting/
LOCATION:Board Room
CATEGORIES:Hub Space
ORGANIZER;CN="National ICT Innovation Hub":MAILTO:innovationhub@ict.go.ug
END:VEVENT
END:VCALENDAR