BEGIN:VCALENDAR
VERSION:2.0
PRODID:-//National ICT Innovation Hub - ECPv6.15.20//NONSGML v1.0//EN
CALSCALE:GREGORIAN
METHOD:PUBLISH
X-ORIGINAL-URL:https://innovationhub.ug
X-WR-CALDESC:Events for National ICT Innovation Hub
REFRESH-INTERVAL;VALUE=DURATION:PT1H
X-Robots-Tag:noindex
X-PUBLISHED-TTL:PT1H
BEGIN:VTIMEZONE
TZID:UTC
BEGIN:STANDARD
TZOFFSETFROM:+0000
TZOFFSETTO:+0000
TZNAME:UTC
DTSTART:20230101T000000
END:STANDARD
END:VTIMEZONE
BEGIN:VEVENT
DTSTART;TZID=UTC:20240902T080000
DTEND;TZID=UTC:20240902T170000
DTSTAMP:20260422T012513
CREATED:20240830T072937Z
LAST-MODIFIED:20240830T072937Z
UID:3069-1725264000-1725296400@innovationhub.ug
SUMMARY:EMIS
DESCRIPTION:Data clean-up
URL:https://innovationhub.ug/event/emis/
LOCATION:Board Room
CATEGORIES:Hub Space
ORGANIZER;CN="National ICT Innovation Hub":MAILTO:innovationhub@ict.go.ug
END:VEVENT
BEGIN:VEVENT
DTSTART;TZID=UTC:20240902T080000
DTEND;TZID=UTC:20240906T170000
DTSTAMP:20260422T012513
CREATED:20240729T163024Z
LAST-MODIFIED:20240729T163024Z
UID:2956-1725264000-1725642000@innovationhub.ug
SUMMARY:Action for Africa
DESCRIPTION:ICT Coding training
URL:https://innovationhub.ug/event/action-for-africa/
LOCATION:Smart Ideas
CATEGORIES:Hub Space
ORGANIZER;CN="National ICT Innovation Hub":MAILTO:innovationhub@ict.go.ug
END:VEVENT
END:VCALENDAR