BEGIN:VCALENDAR
VERSION:2.0
PRODID:-//National ICT Innovation Hub - ECPv6.15.20//NONSGML v1.0//EN
CALSCALE:GREGORIAN
METHOD:PUBLISH
X-WR-CALNAME:National ICT Innovation Hub
X-ORIGINAL-URL:https://innovationhub.ug
X-WR-CALDESC:Events for National ICT Innovation Hub
REFRESH-INTERVAL;VALUE=DURATION:PT1H
X-Robots-Tag:noindex
X-PUBLISHED-TTL:PT1H
BEGIN:VTIMEZONE
TZID:UTC
BEGIN:STANDARD
TZOFFSETFROM:+0000
TZOFFSETTO:+0000
TZNAME:UTC
DTSTART:20230101T000000
END:STANDARD
END:VTIMEZONE
BEGIN:VEVENT
DTSTART;TZID=UTC:20240627T080000
DTEND;TZID=UTC:20240627T170000
DTSTAMP:20260421T163501
CREATED:20240523T141531Z
LAST-MODIFIED:20240523T141531Z
UID:2755-1719475200-1719507600@innovationhub.ug
SUMMARY:Cyberline ICT Students Study Tour
DESCRIPTION:
URL:https://innovationhub.ug/event/cyberline-ict-students-study-tour/
LOCATION:Auditorium
CATEGORIES:Hub Space
END:VEVENT
END:VCALENDAR