BEGIN:VCALENDAR
VERSION:2.0
PRODID:-//National ICT Innovation Hub - ECPv6.15.20//NONSGML v1.0//EN
CALSCALE:GREGORIAN
METHOD:PUBLISH
X-ORIGINAL-URL:https://innovationhub.ug
X-WR-CALDESC:Events for National ICT Innovation Hub
REFRESH-INTERVAL;VALUE=DURATION:PT1H
X-Robots-Tag:noindex
X-PUBLISHED-TTL:PT1H
BEGIN:VTIMEZONE
TZID:UTC
BEGIN:STANDARD
TZOFFSETFROM:+0000
TZOFFSETTO:+0000
TZNAME:UTC
DTSTART:20230101T000000
END:STANDARD
END:VTIMEZONE
BEGIN:VEVENT
DTSTART;TZID=UTC:20240624T080000
DTEND;TZID=UTC:20240625T170000
DTSTAMP:20260421T115158
CREATED:20240611T112956Z
LAST-MODIFIED:20240624T060041Z
UID:2800-1719216000-1719334800@innovationhub.ug
SUMMARY:Ministry of Internal Affairs
DESCRIPTION:CITIZENSHIP AND IMMIGRATION CONTROL SYSTEM TRAINING
URL:https://innovationhub.ug/event/ministry-of-internal-affairs-2/
LOCATION:Auditorium
CATEGORIES:Hub Space
END:VEVENT
BEGIN:VEVENT
DTSTART;TZID=UTC:20240625T090000
DTEND;TZID=UTC:20240625T120000
DTSTAMP:20260421T115158
CREATED:20240516T101803Z
LAST-MODIFIED:20240620T125510Z
UID:2714-1719306000-1719316800@innovationhub.ug
SUMMARY:Ministry of ICT and NG
DESCRIPTION:Hosting of editors and media honours
URL:https://innovationhub.ug/event/ministry-of-ict-and-ng-7/
LOCATION:Board Room
CATEGORIES:Hub Space
ORGANIZER;CN="Ministry of ICT & National Guidance":MAILTO:ictinfo@ict.go.ug
END:VEVENT
BEGIN:VEVENT
DTSTART;TZID=UTC:20240625T100000
DTEND;TZID=UTC:20240625T120000
DTSTAMP:20260421T115158
CREATED:20240619T062537Z
LAST-MODIFIED:20240619T062537Z
UID:2831-1719309600-1719316800@innovationhub.ug
SUMMARY:Innovent Pesa Smart
DESCRIPTION:Investor match-making session
URL:https://innovationhub.ug/event/innovent-pesa-smart/
LOCATION:Visual Space
CATEGORIES:Hub Space
ORGANIZER;CN="National ICT Innovation Hub":MAILTO:innovationhub@ict.go.ug
END:VEVENT
END:VCALENDAR