BEGIN:VCALENDAR
VERSION:2.0
PRODID:-//National ICT Innovation Hub - ECPv6.15.20//NONSGML v1.0//EN
CALSCALE:GREGORIAN
METHOD:PUBLISH
X-ORIGINAL-URL:https://innovationhub.ug
X-WR-CALDESC:Events for National ICT Innovation Hub
REFRESH-INTERVAL;VALUE=DURATION:PT1H
X-Robots-Tag:noindex
X-PUBLISHED-TTL:PT1H
BEGIN:VTIMEZONE
TZID:UTC
BEGIN:STANDARD
TZOFFSETFROM:+0000
TZOFFSETTO:+0000
TZNAME:UTC
DTSTART:20230101T000000
END:STANDARD
END:VTIMEZONE
BEGIN:VEVENT
DTSTART;TZID=UTC:20240610T080000
DTEND;TZID=UTC:20240614T170000
DTSTAMP:20260421T163457
CREATED:20240520T063317Z
LAST-MODIFIED:20240617T093715Z
UID:2725-1718006400-1718384400@innovationhub.ug
SUMMARY:UICT Training
DESCRIPTION:on ICT entrepreneurship
URL:https://innovationhub.ug/event/uict-training-2/
LOCATION:Visual Space
CATEGORIES:Hub Space
END:VEVENT
BEGIN:VEVENT
DTSTART;TZID=UTC:20240611T110000
DTEND;TZID=UTC:20240611T123000
DTSTAMP:20260421T163457
CREATED:20240524T073333Z
LAST-MODIFIED:20240524T073333Z
UID:2764-1718103600-1718109000@innovationhub.ug
SUMMARY:TeachSomebody-UICT Collab
DESCRIPTION:
URL:https://innovationhub.ug/event/teachsomebody-uict-collab/
LOCATION:Auditorium
CATEGORIES:Hub Space
END:VEVENT
END:VCALENDAR