BEGIN:VCALENDAR
VERSION:2.0
PRODID:-//National ICT Innovation Hub - ECPv6.15.20//NONSGML v1.0//EN
CALSCALE:GREGORIAN
METHOD:PUBLISH
X-WR-CALNAME:National ICT Innovation Hub
X-ORIGINAL-URL:https://innovationhub.ug
X-WR-CALDESC:Events for National ICT Innovation Hub
REFRESH-INTERVAL;VALUE=DURATION:PT1H
X-Robots-Tag:noindex
X-PUBLISHED-TTL:PT1H
BEGIN:VTIMEZONE
TZID:UTC
BEGIN:STANDARD
TZOFFSETFROM:+0000
TZOFFSETTO:+0000
TZNAME:UTC
DTSTART:20230101T000000
END:STANDARD
END:VTIMEZONE
BEGIN:VEVENT
DTSTART;TZID=UTC:20240604T080000
DTEND;TZID=UTC:20240606T130000
DTSTAMP:20260421T162534
CREATED:20240524T072717Z
LAST-MODIFIED:20240524T072717Z
UID:2762-1717488000-1717678800@innovationhub.ug
SUMMARY:Pulse Check
DESCRIPTION:
URL:https://innovationhub.ug/event/pulse-check-2/
LOCATION:Board Room
CATEGORIES:Hub Space
END:VEVENT
BEGIN:VEVENT
DTSTART;TZID=UTC:20240606T080000
DTEND;TZID=UTC:20240606T170000
DTSTAMP:20260421T162534
CREATED:20240604T090014Z
LAST-MODIFIED:20240604T090014Z
UID:2786-1717660800-1717693200@innovationhub.ug
SUMMARY:PDM
DESCRIPTION:CPIS Service Desk Training
URL:https://innovationhub.ug/event/pdm-2/
LOCATION:Blue Sky Thinking
CATEGORIES:Hub Space
ORGANIZER;CN="Ministry of ICT & National Guidance":MAILTO:ictinfo@ict.go.ug
END:VEVENT
END:VCALENDAR