BEGIN:VCALENDAR
VERSION:2.0
PRODID:-//National ICT Innovation Hub - ECPv6.15.20//NONSGML v1.0//EN
CALSCALE:GREGORIAN
METHOD:PUBLISH
X-ORIGINAL-URL:https://innovationhub.ug
X-WR-CALDESC:Events for National ICT Innovation Hub
REFRESH-INTERVAL;VALUE=DURATION:PT1H
X-Robots-Tag:noindex
X-PUBLISHED-TTL:PT1H
BEGIN:VTIMEZONE
TZID:UTC
BEGIN:STANDARD
TZOFFSETFROM:+0000
TZOFFSETTO:+0000
TZNAME:UTC
DTSTART:20230101T000000
END:STANDARD
END:VTIMEZONE
BEGIN:VEVENT
DTSTART;TZID=UTC:20240419T080000
DTEND;TZID=UTC:20240419T170000
DTSTAMP:20260421T102346
CREATED:20240411T091119Z
LAST-MODIFIED:20240411T091119Z
UID:2549-1713513600-1713546000@innovationhub.ug
SUMMARY:UICT Training
DESCRIPTION:Communication Policy dissemination workshop
URL:https://innovationhub.ug/event/uict-training/
LOCATION:Auditorium
CATEGORIES:Hub Space
END:VEVENT
END:VCALENDAR