BEGIN:VCALENDAR
VERSION:2.0
PRODID:-//National ICT Innovation Hub - ECPv6.15.20//NONSGML v1.0//EN
CALSCALE:GREGORIAN
METHOD:PUBLISH
X-ORIGINAL-URL:https://innovationhub.ug
X-WR-CALDESC:Events for National ICT Innovation Hub
REFRESH-INTERVAL;VALUE=DURATION:PT1H
X-Robots-Tag:noindex
X-PUBLISHED-TTL:PT1H
BEGIN:VTIMEZONE
TZID:UTC
BEGIN:STANDARD
TZOFFSETFROM:+0000
TZOFFSETTO:+0000
TZNAME:UTC
DTSTART:20230101T000000
END:STANDARD
END:VTIMEZONE
BEGIN:VEVENT
DTSTART;TZID=UTC:20240411T090000
DTEND;TZID=UTC:20240411T130000
DTSTAMP:20260421T132952
CREATED:20240409T134810Z
LAST-MODIFIED:20240409T134810Z
UID:2541-1712826000-1712840400@innovationhub.ug
SUMMARY:Sumic Youth Online Coaching and Mentorship Program
DESCRIPTION:
URL:https://innovationhub.ug/event/sumic-youth-online-coaching-and-mentorship-program/
LOCATION:Visual Space
CATEGORIES:Hub Space
END:VEVENT
BEGIN:VEVENT
DTSTART;TZID=UTC:20240411T090000
DTEND;TZID=UTC:20240411T140000
DTSTAMP:20260421T132952
CREATED:20240320T063719Z
LAST-MODIFIED:20240402T073332Z
UID:2381-1712826000-1712844000@innovationhub.ug
SUMMARY:Tubayo Training
DESCRIPTION:Host training session
URL:https://innovationhub.ug/event/tubayo-training/
LOCATION:Auditorium
CATEGORIES:Hub Space
END:VEVENT
BEGIN:VEVENT
DTSTART;TZID=UTC:20240411T110000
DTEND;TZID=UTC:20240411T120000
DTSTAMP:20260421T132952
CREATED:20240408T095636Z
LAST-MODIFIED:20240408T095636Z
UID:2472-1712833200-1712836800@innovationhub.ug
SUMMARY:Collaboration meeting with Brighter Monday
DESCRIPTION:
URL:https://innovationhub.ug/event/collaboration-meeting-with-brighter-monday/
LOCATION:Board Room
CATEGORIES:Hub Space
ORGANIZER;CN="National ICT Innovation Hub":MAILTO:innovationhub@ict.go.ug
END:VEVENT
END:VCALENDAR